Workbook

Sheet Overall Budget
A1: Southminster Parish Council Budget 1st April 2011 to 31 March 2012 Status at 31st March 2012
A3: Budget Item | B3: Budget Sub-item | C3: Balance 31/03/2011 | D3: Precept | E3: Sub-Item Budget | F3: Item Budget | G3: Payments | H3: Receipts | I3: Sub-item Balance | J3: Item Balance
A5: Administration | F5: =SUM(E6:E19) -> 11229.9 | G5: =SUM(G6:G19) -> 9867.66 | H5: =SUM(H6:H19) -> 206.94 | J5: =SUM(F5-G5+H5) -> 1569.18
B6: Audit | C6: 371.6 | D6: 528.4 | E6: =SUM(C6+D6) -> 900 | G6: 719 | H6: 0 | I6: =SUM(E6-G6+H6) -> 181
B7: Chairman's Honorarium | C7: 0 | D7: 500 | E7: =SUM(C7+D7) -> 500 | G7: 500 | H7: 0 | I7: =SUM(E7-G7+H7) -> 0
B8: Charity | C8: 100 | D8: 2.5 | E8: =SUM(C8+D8) -> 102.5 | G8: 100 | H8: 107.5 | I8: =SUM(E8-G8+H8) -> 110
B9: Election Costs | C9: 2000 | D9: 0 | E9: =SUM(C9+D9) -> 2000 | G9: 63.24 | H9: 0 | I9: =SUM(E9-G9+H9) -> 1936.76
B10: General Expenses | C10: 210.6 | D10: 328.4 | E10: =SUM(C10+D10) -> 539 | G10: 515.97 | H10: 3 | I10: =SUM(E10-G10+H10) -> 26.03
B11: Green Sacks | C11: 12.25 | D11: 0 | E11: =SUM(C11+D11) -> 12.25 | G11: 0 | H11: 10 | I11: =SUM(E11-G11+H11) -> 22.25
B12: Insurance - General | C12: -31.96 | D12: 5031.96 | E12: =SUM(C12+D12) -> 5000 | G12: 4243.29 | H12: 0 | I12: =SUM(E12-G12+H12) -> 756.71
B13: Insurance - One Place | C13: 0 | D13: 0 | E13: =SUM(C13+D13) -> 0 | G13: 1479.86 | H13: 0 | I13: =SUM(E13-G13+H13) -> -1479.86
B14: IT Services | C14: 87.63 | D14: 112.37 | E14: =SUM(C14+D14) -> 200 | G14: 648.91 | H14: 0 | I14: =SUM(E14-G14+H14) -> -448.91
B15: Postage | C15: 36.12 | D15: 33.88 | E15: =SUM(C15+D15) -> 70 | G15: 50.6 | H15: 0 | I15: =SUM(E15-G15+H15) -> 19.4
B16: Stationary | C16: 151.17 | D16: 394.98 | E16: =SUM(C16+D16) -> 546.15 | G16: 344.11 | H16: 86.44 | I16: =SUM(E16-G16+H16) -> 288.48
B17: Subscriptions | C17: 61.73 | D17: 638.27 | E17: =SUM(C17+D17) -> 700 | G17: 658.01 | H17: 0 | I17: =SUM(E17-G17+H17) -> 41.99
... B19: Training | C19: 136.05 | D19: 163.95 | E19: =SUM(C19+D19) -> 300 | G19: 225.74 | H19: 0 | I19: =SUM(E19-G19+H19) -> 74.26
A21: Wages PAYE & Expenses | F21: =SUM(E22:E22) -> 13000 | G21: =SUM(G22:G22) -> 11640.79 | H21: =SUM(H22:H22) -> 0 | J21: =SUM(F21-G21+H21) -> 1359.21
B22: Clerk (Salary + Employer's N I) | C22: 293.43 | D22: 12706.57 | E22: =SUM(C22+D22) -> 13000 | G22: 11640.79 | H22: 0 | I22: =SUM(E22-G22+H22) -> 1359.21
A24: S137 Payments | C24: 265 | D24: 85 | F24: =SUM(C24+D24) -> 350 | G24: 105 | H24: 0 | J24: =SUM(F24-G24+H24) -> 245
A26: Capital Spending (Asset purchase) | C26: 0 | D26: 0 | F26: =SUM(C26+D26) -> 0 | G26: 0 | H26: 0 | J26: =SUM(F26-G26+H26) -> 0
A28: Sale of Assets | C28: 0 | D28: 0 | F28: =SUM(C28+D28) -> 0 | G28: 150 | H28: 150 | J28: =SUM(F28-G28+H28) -> 0
A30: Loans etc for Capital expend | C30: 0 | D30: 0 | F30: =SUM(C30+D30) -> 0 | G30: 0 | H30: 0 | J30: =SUM(F30-G30+H30) -> 0
A32: Loan, Interest & Repayments | C32: 0 | D32: 0 | F32: =SUM(C32+D32) -> 0 | G32: 0.1 | H32: 0 | J32: =SUM(F32-G32+H32) -> -0.1
A34: Interest on Invts and A/Cs | C34: 0 | D34: 0 | F34: =SUM(C34+D34) -> 0 | G34: =SUM(G35:G36) -> 52.07 | H34: =SUM(H35:H36) -> 52.07 | J34: =SUM(F34-G34+H34) -> 0
B35: Business Reserve | G35: 36.74 | H35: 36.74
B36: Business Premium | G36: 15.33 | H36: 15.33
A38: Tenancies (Council as landlord) | C38: 0 | D38: 0 | F38: =SUM(C38+D38) -> 0 | G38: 916.66 | H38: 916.66 | J38: =SUM(F38-G38+H38) -> 0
A40: Capital Grants | C40: 0 | D40: 0 | F40: =SUM(C40+D40) -> 0 | G40: 0 | H40: 0 | J40: =SUM(F40-G40+H40) -> 0
A42: Agency Services | C42: 0 | D42: 0 | F42: =SUM(C42+D42) -> 0 | G42: 0 | H42: 0 | J42: =SUM(F42-G42+H42) -> 0
A44: Other Payments (Not listed here) | C44: 0 | D44: 0 | F44: 0 | G44: 36 | H44: 36 | J44: =SUM(F44-G44+H44) -> 0
A46: Provision for doubtful debts | F46: =SUM(E47) -> -853.99 | G46: =SUM(G47:G47) -> 0 | H46: =SUM(H47:H47) -> 940 | J46: =SUM(F46-G46+H46) -> 86.01
B47: Recovered Monies (Clerk) | C47: -853.99 | D47: 0 | E47: =SUM(C47+D47) -> -853.99 | G47: 0 | H47: 940 | I47: =SUM(E47-G47+H47) -> 86.01
A49: Advertising & Publicity | F49: =SUM(E50:E51) -> 1100 | G49: =SUM(G50:G51) -> 1015 | H49: =SUM(H50:H51) -> 0 | J49: =SUM(F49-G49+H49) -> 85
B50: SPN | C50: -105 | D50: 1105 | E50: =SUM(C50:D50) -> 1000 | G50: 1015 | H50: 0 | I50: =SUM(E50-G50+H50) -> -15
B51: Other | C51: 100 | D51: 0 | E51: =SUM(C51:D51) -> 100 | G51: 0 | H51: 0 | I51: =SUM(E51-G51+H51) -> 100
A53: Allotments | F53: =SUM(E54:E56) -> -579 | G53: =SUM(G54:G56) -> 1457.22 | H53: =SUM(H54:H56) -> 856.21 | J53: =SUM(F53-G53+H53) -> -1180.01
B54: Lettings | C54: 999.4 | D54: -1489.4 | E54: =SUM(C54:D54) -> -490 | G54: 0 | H54: 856.21 | I54: =SUM(E54-G54+H54) -> 366.21
B55: Maintenance (incl grass cutting) | C55: -1563.57 | D55: 1874.57 | E55: =SUM(C55:D55) -> 311 | G55: 1039.32 | H55: 0 | I55: =SUM(E55-G55+H55) -> -728.32
B56: Water | C56: -373.12 | D56: -26.88 | E56: =SUM(C56:D56) -> -400 | G56: 417.9 | H56: 0 | I56: =SUM(E56-G56+H56) -> -817.9
A58: Parish Room/Old Parish Room/Car Park/Toilet/One Place | F58: =SUM(E59:E76) -> 6451 | G58: =SUM(G59:G76) -> 5555.43 | H58: =SUM(H59:H76) -> 1684.3 | J58: =SUM(F58-G58+H58) -> 2579.87
...

Sheet R & P
A1: Receipts and Payments since last report
C2: Payments at 13/03/2012 | D2: Current Payments | E2: Payments for period | G2: Receipts at 13/03/2012 | H2: Current receipts | I2: Receipts for period
A4: Administration | C4: =SUM(C5:C18) -> 9815.9 | D4: =SUM('Overall Budget'!G5) -> 9867.66 | E4: =SUM(D4-C4) -> 51.76 | G4: =SUM(G5:G18) -> 200.94 | H4: =SUM('Overall Budget'!H5) -> 206.94 | I4: =SUM(H4-G4) -> 6
B5: Audit | C5: 719 | D5: =SUM('Overall Budget'!G6) -> 719 | E5: =SUM(D5-C5) -> 0 | G5: 0 | H5: =SUM('Overall Budget'!H6) -> 0 | I5: =SUM(H5-G5) -> 0
B6: Chairman's Honorarium | C6: 500 | D6: =SUM('Overall Budget'!G7) -> 500 | E6: =SUM(D6-C6) -> 0 | G6: 0 | H6: =SUM('Overall Budget'!H7) -> 0 | I6: =SUM(H6-G6) -> 0
B7: Charity | C7: 100 | D7: =SUM('Overall Budget'!G8) -> 100 | E7: =SUM(D7-C7) -> 0 | G7: 107.5 | H7: =SUM('Overall Budget'!H8) -> 107.5 | I7: =SUM(H7-G7) -> 0
B8: Election Costs | C8: 63.24 | D8: =SUM('Overall Budget'!G9) -> 63.24 | E8: =SUM(D8-C8) -> 0 | G8: 0 | H8: =SUM('Overall Budget'!H9) -> 0 | I8: =SUM(H8-G8) -> 0
B9: General Expenses | C9: 515.97 | D9: =SUM('Overall Budget'!G10) -> 515.97 | E9: =SUM(D9-C9) -> 0 | G9: 3 | H9: =SUM('Overall Budget'!H10) -> 3 | I9: =SUM(H9-G9) -> 0
B10: Green Sacks | C10: 0 | D10: =SUM('Overall Budget'!G11) -> 0 | E10: =SUM(D10-C10) -> 0 | G10: 4 | H10: =SUM('Overall Budget'!H11) -> 10 | I10: =SUM(H10-G10) -> 6
B11: Insurance - General | C11: 4243.29 | D11: =SUM('Overall Budget'!G12) -> 4243.29 | E11: =SUM(D11-C11) -> 0 | G11: 0 | H11: =SUM('Overall Budget'!H12) -> 0 | I11: =SUM(H11-G11) -> 0
B12: Insurance - One Place | C12: 1479.86 | D12: =SUM('Overall Budget'!G13) -> 1479.86 | E12: =SUM(D12-C12) -> 0 | G12: 0 | H12: =SUM('Overall Budget'!H13) -> 0 | I12: =SUM(H12-G12) -> 0
B13: IT Services | C13: 648.91 | D13: =SUM('Overall Budget'!G14) -> 648.91 | E13: =SUM(D13-C13) -> 0 | G13: 0 | H13: =SUM('Overall Budget'!H14) -> 0 | I13: =SUM(H13-G13) -> 0
B14: Postage | C14: 50.6 | D14: =SUM('Overall Budget'!G15) -> 50.6 | E14: =SUM(D14-C14) -> 0 | G14: 0 | H14: =SUM('Overall Budget'!H15) -> 0 | I14: =SUM(H14-G14) -> 0
B15: Stationary | C15: 303.04 | D15: =SUM('Overall Budget'!G16) -> 344.11 | E15: =SUM(D15-C15) -> 41.07 | G15: 86.44 | H15: =SUM('Overall Budget'!H16) -> 86.44 | I15: =SUM(H15-G15) -> 0
B16: Subscriptions | C16: 658.01 | D16: =SUM('Overall Budget'!G17) -> 658.01 | E16: =SUM(D16-C16) -> 0 | G16: 0 | H16: =SUM('Overall Budget'!H17) -> 0 | I16: =SUM(H16-G16) -> 0
... B18: Training | C18: 214.55 | D18: =SUM('Overall Budget'!G19) -> 225.74 | E18: =SUM(D18-C18) -> 11.19 | G18: 0 | H18: =SUM('Overall Budget'!H19) -> 0 | I18: =SUM(H18-G18) -> 0
A20: Wages PAYE & Expenses | C20: =SUM(C21:C21) -> 10899.17 | D20: =SUM('Overall Budget'!G21) -> 11640.79 | E20: =SUM(D20-C20) -> 741.62 | G20: =SUM(G21:G21) -> 0 | H20: =SUM('Overall Budget'!H21) -> 0 | I20: =SUM(H20-G20) -> 0
B21: Clerk (Salary + Employer's N I) | C21: 10899.17 | D21: =SUM('Overall Budget'!G22) -> 11640.79 | E21: =SUM(D21-C21) -> 741.62 | G21: 0 | H21: =SUM('Overall Budget'!H22) -> 0 | I21: =SUM(H21-G21) -> 0
A23: S137 Payments | C23: 105 | D23: =SUM('Overall Budget'!G24) -> 105 | E23: =SUM(D23-C23) -> 0 | G23: 0 | H23: =SUM('Overall Budget'!H24) -> 0 | I23: =SUM(H23-G23) -> 0
A25: Capital Spending (Asset purchase) | C25: 0 | D25: =SUM('Overall Budget'!G26) -> 0 | E25: =SUM(D25-C25) -> 0 | G25: 0 | H25: =SUM('Overall Budget'!H26) -> 0 | I25: =SUM(H25-G25) -> 0
A27: Sale of Assets | C27: 0 | D27: =SUM('Overall Budget'!G28) -> 150 | E27: =SUM(D27-C27) -> 150 | G27: 150 | H27: =SUM('Overall Budget'!H28) -> 150 | I27: =SUM(H27-G27) -> 0
A29: Loans etc for Capital expend | C29: 0 | D29: =SUM('Overall Budget'!G30) -> 0 | E29: =SUM(D29-C29) -> 0 | G29: 0 | H29: =SUM('Overall Budget'!H30) -> 0 | I29: =SUM(H29-G29) -> 0
A31: Loan, Interest & Repayments | C31: 0.1 | D31: =SUM('Overall Budget'!G32) -> 0.1 | E31: =SUM(D31-C31) -> 0 | G31: 0 | H31: =SUM('Overall Budget'!H32) -> 0 | I31: =SUM(H31-G31) -> 0
A33: Interest on Invts and A/Cs | C33: =SUM(C34:C35) -> 0 | D33: =SUM('Overall Budget'!G34) -> 52.07 | E33: =SUM(D33-C33) -> 52.07 | G33: =SUM(G34:G35) -> 41.74 | H33: =SUM('Overall Budget'!H34) -> 52.07 | I33: =SUM(H33-G33) -> 10.33
B34: Business Reserve | C34: 0 | D34: =SUM('Overall Budget'!G35) -> 36.74 | E34: =SUM(D34-C34) -> 36.74 | G34: 29.72 | H34: =SUM('Overall Budget'!H35) -> 36.74 | I34: =SUM(H34-G34) -> 7.02
B35: Business Premium | C35: 0 | D35: =SUM('Overall Budget'!G36) -> 15.33 | E35: =SUM(D35-C35) -> 15.33 | G35: 12.02 | H35: =SUM('Overall Budget'!H36) -> 15.33 | I35: =SUM(H35-G35) -> 3.31
A37: Tenancies (Council as Landlord) | C37: 0 | D37: =SUM('Overall Budget'!G38) -> 916.66 | E37: =SUM(D37-C37) -> 916.66 | G37: 916.66 | H37: =SUM('Overall Budget'!H38) -> 916.66 | I37: =SUM(H37-G37) -> 0
A39: Capital Grants | C39: 0 | D39: =SUM('Overall Budget'!G40) -> 0 | E39: =SUM(D39-C39) -> 0 | G39: 0 | H39: =SUM('Overall Budget'!H40) -> 0 | I39: =SUM(H39-G39) -> 0
A41: Agency Services | C41: 0 | D41: =SUM('Overall Budget'!G42) -> 0 | E41: =SUM(D41-C41) -> 0 | G41: 0 | H41: =SUM('Overall Budget'!H42) -> 0 | I41: =SUM(H41-G41) -> 0
A43: Other Payments (Not listed here) | C43: 36 | D43: =SUM('Overall Budget'!G44) -> 36 | E43: =SUM(D43-C43) -> 0 | G43: 0 | H43: =SUM('Overall Budget'!H44) -> 36 | I43: =SUM(H43-G43) -> 36
A45: Provision for doubtful debts | C45: =SUM(C46:C46) -> 0 | G45: =SUM(G46:G46) -> 940
B46: Recovered Monies (Clerk) | C46: 0 | D46: =SUM('Overall Budget'!G47) -> 0 | E46: =SUM(D46-C46) -> 0 | G46: 940 | H46: =SUM('Overall Budget'!H47) -> 940 | I46: =SUM(H46-G46) -> 0
A48: Advertising & Publicity | C48: =SUM(C49:C50) -> 885 | D48: =SUM('Overall Budget'!G49) -> 1015 | E48: =SUM(D48-C48) -> 130 | G48: =SUM(G49:G50) -> 0 | H48: =SUM('Overall Budget'!H49) -> 0 | I48: =SUM(H48-G48) -> 0
B49: SPN | C49: 885 | D49: =SUM('Overall Budget'!G50) -> 1015 | E49: =SUM(D49-C49) -> 130 | G49: 0 | H49: =SUM('Overall Budget'!H50) -> 0 | I49: =SUM(H49-G49) -> 0
B50: Other | C50: 0 | D50: =SUM('Overall Budget'!G51) -> 0 | E50: =SUM(D50-C50) -> 0 | G50: 0 | H50: =SUM('Overall Budget'!H51) -> 0 | I50: =SUM(H50-G50) -> 0
A52: Allotments | C52: =SUM(C53:C55) -> 1439.16 | D52: =SUM('Overall Budget'!G53) -> 1457.22 | E52: =SUM(D52-C52) -> 18.06 | G52: =SUM(G53:G55) -> 856.21 | H52: =SUM('Overall Budget'!H53) -> 856.21 | I52: =SUM(H52-G52) -> 0
B53: Lettings | C53: 0 | D53: =SUM('Overall Budget'!G54) -> 0 | E53: =SUM(D53-C53) -> 0 | G53: 856.21 | H53: =SUM('Overall Budget'!H54) -> 856.21 | I53: =SUM(H53-G53) -> 0
B54: Maintenance (incl grass cutting) | C54: 1039.32 | D54: =SUM('Overall Budget'!G55) -> 1039.32 | E54: =SUM(D54-C54) -> 0 | G54: 0 | H54: =SUM('Overall Budget'!H55) -> 0 | I54: =SUM(H54-G54) -> 0
B55: Water | C55: 399.84 | D55: =SUM('Overall Budget'!G56) -> 417.9 | E55: =SUM(D55-C55) -> 18.06 | G55: 0 | H55: =SUM('Overall Budget'!H56) -> 0 | I55: =SUM(H55-G55) -> 0
A57: Parish Room/Old Parish Room/Car Park/Toilet/One Place | C57: =SUM(C58:C75) -> 5632.03 | D57: =SUM('Overall Budget'!G58) -> 5555.43 | E57: =SUM(D57-C57) -> -76.6 | G57: =SUM(G58:G75) -> 1684.3 | H57: =SUM('Overall Budget'!H58) -> 1684.3 | I57: =SUM(H57-G57) -> 0
...

Sheet One Place Building
A1: PROJECT: One Place Community Building
A2: Last review: 5th January 2012
A3: Date | B3: Name | C3: Description / Item | D3: Receipts | E3: Payments | F3: Balance | G3: Bud #
A5: 1st Apr 11 | B5: Precept Budget | D5: 0 | F5: =SUM(D5-E5) -> 0 | G5: na
A6: 40708 | B6: Tudor Trading | C6: Building deposit | E6: 6678.34 | F6: =SUM(F5+D6-E6) -> -6678.34 | G6: 2
A7: 40723 | B7: Vivalda | C7: Fire proof boarding | E7: 406.8 | F7: =SUM(F6+D7-E7) -> -7085.14 | G7: 7
A8: 40724 | B8: Capital development fund | C8: Fund transfer | D8: 25000 | F8: =SUM(F7+D8-E8) -> 17914.86 | G8: na
A9: 40725 | B9: Tudor Trading | C9: 2nd payment on delivery | E9: 8000 | F9: =SUM(F8+D9-E9) -> 9914.86 | G9: 2
A10: 40728 | B10: Burnham Tool Hire | C10: Hire heavy duty breaker | E10: 150 | F10: =SUM(F9+D10-E10) -> 9764.86 | G10: 10
A11: 40728 | B11: Burnham Tool Hire | C11: Hire heavy duty breaker refund | D11: 114 | F11: =SUM(F10+D11-E11) -> 9878.86 | G11: 10
A12: 40728 | B12: Tudor Trading | C12: 2nd payment on delivery | E12: 5735.68 | F12: =SUM(F11+D12-E12) -> 4143.18 | G12: 2
A13: 40730 | B13: Golden Platter | C13: Refresments for comm workers | E13: 8 | F13: =SUM(F12+D13-E13) -> 4135.18 | G13: 13
A14: 40730 | B14: James Cooper | E14: 60 | F14: =SUM(F13+D14-E14) -> 4075.18 | G14: 10
A15: 40730 | B15: James Cooper | C15: Ground works etc | E15: 190 | F15: =SUM(F14+D15-E15) -> 3885.18 | G15: 10
A16: 40732 | B16: James Cooper | C16: Ground works etc | E16: 120 | F16: =SUM(F15+D16-E16) -> 3765.18 | G16: 13
A17: 40735 | B17: Dengie Plant Hire | C17: Hire of digger | E17: 150 | F17: =SUM(F16+D17-E17) -> 3615.18 | G17: 10
A18: 40736 | B18: Tech Electrical | C18: Electric Cable etc | E18: 104.9 | F18: =SUM(F17+D18-E18) -> 3510.28 | G18: 12
A19: 40737 | B19: James Cooper | C19: Ground works etc | E19: 180 | F19: =SUM(F18+D19-E19) -> 3330.28 | G19: 13
A20: 40739 | B20: James Cooper | C20: Ramp | E20: 70 | F20: =SUM(F19+D20-E20) -> 3260.28 | G20: 11
A21: 40739 | B21: James Cooper | C21: Water/Sewerage | E21: 70 | F21: =SUM(F20+D21-E21) -> 3190.28 | G21: 13
A22: 40739 | B22: Tudor Trading | C22: Final Payment | E22: 7057.33 | F22: =SUM(F21+D22-E22) -> -3867.05 | G22: 2
A23: 40739 | B23: Tudor Trading | C23: Fit fire proof boards | E23: 480 | F23: =SUM(F22+D23-E23) -> -4347.05 | G23: 2
A24: 40742 | B24: Mr & Mrs Johnson | C24: Screening | E24: 118.63 | F24: =SUM(F23+D24-E24) -> -4465.68 | G24: 19
A25: 40742 | B25: Travis Perkins Trading | C25: Goods for ramp | E25: 227.73 | F25: =SUM(F24+D25-E25) -> -4693.41 | G25: 11
A26: 40744 | B26: City Plumbing Supplies | C26: Water meter & stop cock | E26: 51.3 | F26: =SUM(F25+D26-E26) -> -4744.71 | G26: 13
... A58: 40758 | B58: Paul Hovland Ltd | C58: Electrical connections | E58: 243.55 | F58: =SUM(F57+D58-E58) -> -9141.4 | G58: 12
A59: 40759 | B59: Essex County Council | C59: Big Society Fund Grant QR27 | D59: 10000 | F59: =SUM(F58+D59-E59) -> 858.6 | G59: na
A60: 40760 | B60: Travis Perkins Trading | C60: Cement for steps | E60: 44.9 | F60: =SUM(F59+D60-E60) -> 813.7 | G60: 11
A61: 40763 | B61: Travis Perkins Trading | C61: Materials for Toilets | E61: 95.9 | F61: =SUM(F60+D61-E61) -> 717.8 | G61: 18
A62: 40767 | B62: Dengie Project Trust | C62: Cost of internal changes | D62: 758 | F62: =SUM(F61+D62-E62) -> 1475.8 | G62: na
A63: 40767 | B63: James Cooper | C63: Clear site | E63: 60 | F63: =SUM(F62+D63-E63) -> 1415.8 | G63: 10
A64: 40767 | B64: James Cooper | C64: Paint Toilet Block | E64: 60 | F64: =SUM(F63+D64-E64) -> 1355.8 | G64: 16
A65: 40767 | B65: Maldon District Council | C65: Building Regs Fee | E65: 431.47 | F65: =SUM(F64+D65-E65) -> 924.33 | G65: 1
A66: 40770 | B66: GJ's Reclaim | C66: Urinal for toilets | E66: 105.89 | F66: =SUM(F65+D66-E66) -> 818.44 | G66: 18
A67: 40772 | B67: D Boutwell | C67: Reinstate Toilets | E67: 680 | F67: =SUM(F66+D67-E67) -> 138.44 | G67: 18
A68: 40772 | B68: James Cooper | C68: Paint Toilet Block | E68: 120 | F68: =SUM(F67+D68-E68) -> 18.44 | G68: 18
A69: 40779 | B69: Magnum Logistics | C69: Transport Urinal | E69: 50 | F69: =SUM(F68+D69-E69) -> -31.56 | G69: 18
A70: 40786 | B70: Travis Perkins Trading | C70: Wood for toilet door frame | E70: 6.34 | F70: =SUM(F69+D70-E70) -> -37.9 | G70: 18
A71: 40792 | B71: James Cooper | C71: Install Urinal | E71: 60 | F71: =SUM(F70+D71-E71) -> -97.9 | G71: 18
A72: 40798 | B72: Dengie Plumbing Services | C72: Plumbing to One Place | E72: 45 | F72: =SUM(F71+D72-E72) -> -142.9 | G72: 18
...

Sheet KGV Comm Building
A1: PROJECT: KGVMF Community Building
A2: Last review: 24th August 2011
A3: Date | B3: Name | C3: Description / Item | D3: Receipts | E3: Payments | F3: Balance | G3: Bud #
A5: 1st Apr 10 | B5: Precept Budget | D5: 0 | F5: =SUM(D5) -> 0
A6: 40570 | B6: Youth Club Account | C6: Residual Capital Budget | D6: 389.66 | F6: =SUM(F5+D6-E6) -> 389.66 | G6: na
A7: 40591 | B7: Maldon District Council | C7: Planning application fee | E7: 335 | F7: =SUM(F6+D7-E7) -> 54.66 | G7: 4
A8: 40596 | B8: Essex District Council | C8: Grant from ECC (John Zammit) | D8: 10000 | F8: =SUM(F7+D8-E8) -> 10054.66 | G8: na
A9: 40602 | B9: P H Clark (Tiers Cross) Ltd | C9: Modular Building deposit | E9: 9907.5 | F9: =SUM(F8+D9-E9) -> 147.16 | G9: 6
A10: 40606 | B10: Dengie Plant Hire | C10: Digger for ground works | E10: 60 | F10: =SUM(F9+D10-E10) -> 87.16 | G10: 3
A11: 40606 | B11: Maldon District Council | C11: Return Planning application fee | D11: 335 | F11: =SUM(F10+D11-E11) -> 422.16 | G11: 4
A12: 40617 | B12: Maldon District Council | C12: Planning application fee | E12: 335 | F12: =SUM(F11+D12-E12) -> 87.16 | G12: 4
A13: 40619 | B13: Dengie Plant Hire | C13: Digger for ground works | E13: 60 | F13: =SUM(F12+D13-E13) -> 27.16 | G13: 3
A14: 40619 | B14: John James Associates | C14: Architect fees | E14: 103 | F14: =SUM(F13+D14-E14) -> -75.84 | G14: 1
A15: 40619 | B15: Essex County Council | C15: Grant from ECC (Angie Balcombe) | D15: 16000 | F15: =SUM(F14+D15-E15) -> 15924.16 | G15: na
A16: 40624 | B16: Nigel Cole Associates | C16: Structural Engineering | E16: 980 | F16: =SUM(F15+D16-E16) -> 14944.16 | G16: 3
E18: End of year sub total | F18: 14944.16
A20: 1st Apr 11 | B20: Precept Budget | D20: 0 | F20: =SUM(F16+D20-E20) -> 14944.16
A21: 40641 | B21: Maldon District Council | C21: Planning Application fee | E21: 215.73 | F21: =SUM(F20+D21-E21) -> 14728.43 | G21: 4
A22: 40644 | B22: John James Associates | C22: Architect Fees | E22: 592.2 | F22: =SUM(F21+D22-E22) -> 14136.23 | G22: 1
A23: 40648 | B23: John James Associates | C23: Architect Fees | E23: 471.3 | F23: =SUM(F22+D23-E23) -> 13664.93 | G23: 1
A24: 40682 | B24: Maldon District Council | C24: Planning Application fee | E24: 212.5 | F24: =SUM(F23+D24-E24) -> 13452.43 | G24: 4
A25: 40683 | B25: Willis Civils | C25: Paving Slabs | E25: 750 | F25: =SUM(F24+D25-E25) -> 12702.43 | G25: 12
A26: 40690 | B26: Maldon District Council | C26: Building Contro; Regs Fees | E26: 604.03 | F26: =SUM(F25+D26-E26) -> 12098.4 | G26: 5
A27: 40697 | B27: Makro | C27: Chairs | E27: 279.6 | F27: =SUM(F26+D27-E27) -> 11818.8 | G27: 13
A28: 40697 | B28: Makro | C28: Tables | E28: 294.91 | F28: =SUM(F27+D28-E28) -> 11523.89 | G28: 13
A29: 40704 | B29: Rexel UK Ltd | C29: Electrical parts & Cable | E29: 985.36 | F29: =SUM(F28+D29-E29) -> 10538.53 | G29: 10
A30: 40707 | B30: James Cooper | C30: Install Electrical Cable | E30: 60 | F30: =SUM(F29+D30-E30) -> 10478.53 | G30: 10
A31: 40709 | B31: Dengie Plant Hire | C31: Digger for ground works | E31: 75 | F31: =SUM(F30+D31-E31) -> 10403.53 | G31: 9
A32: 40710 | B32: James Cooper | C32: Concrete and paving slabs | E32: 240 | F32: =SUM(F31+D32-E32) -> 10163.53 | G32: 12
... A46: 40724 | B46: Dengie Plumbing Services | C46: Plumbing connections etc | E46: 244 | F46: =SUM(F45+D46-E46) -> 6423.99 | G46: 11
A47: 40724 | B47: Capital development fund | C47: Fund transfer | D47: 30000 | F47: =SUM(F46+D47-E47) -> 36423.99 | G47: na
A48: 40725 | B48: Fishers Farms | C48: Fencing | E48: 70 | F48: =SUM(F47+D48-E48) -> 36353.99 | G48: 15
A49: 40725 | B49: Ian Wallaker (Builders) Ltd | C49: Groundworks etc. | E49: 8000 | F49: =SUM(F48+D49-E49) -> 28353.99 | G49: 8
A50: 40728 | B50: Home safe | C50: Fire extinquishers etc | E50: 265.6 | F50: =SUM(F49+D50-E50) -> 28088.39 | G50: 16
A51: 40728 | B51: Ian Wallaker (Builders) Ltd | C51: Groundworks etc. | E51: 3694 | F51: =SUM(F50+D51-E51) -> 24394.39 | G51: 8
A52: 40735 | B52: Skeggs Straw Ltd | C52: Moving containers | E52: 600 | F52: =SUM(F51+D52-E52) -> 23794.39 | G52: 17
A53: 40736 | B53: Colin Siggers | C53: Welding of fence and gate | E53: 160 | F53: =SUM(F52+D53-E53) -> 23634.39 | G53: 15
A54: 40742 | B54: P H Clark (Tiers Cross) Ltd | C54: Modular Building final payment | E54: 29722.5 | F54: =SUM(F53+D54-E54) -> -6088.11 | G54: 6
A55: 40745 | B55: Youth Club Fund | C55: Fund transfer | D55: 3275.99 | F55: =SUM(F54+D55-E55) -> -2812.12 | G55: na
A56: 40745 | B56: Capital development fund | C56: Fund transfer | D56: 2812.12 | F56: =SUM(F55+D56-E56) -> -9.094947e-13 | G56: na
...

Sheet BMX
A1: PROJECT: KGV - Maintenance BMX
A2: Last review: 2nd August 2011
A3: Date | B3: Name | C3: Description / Item | D3: Receipts | E3: Payments | F3: Balance
A5: 1st Apr 09 | B5: Precept Budget | D5: 3000 | F5: =SUM(D5) -> 3000
A6: 40049 | B6: Smallwaste | C6: Removal of waste material | E6: 47.83 | F6: =SUM(F5-E6) -> 2952.17
A7: 40050 | B7: Victor Oxley | C7: Work Invoice | E7: 65 | F7: =SUM(F6-E7) -> 2887.17
A8: 40058 | B8: Victor Oxley | C8: Work Invoice | E8: 98 | F8: =SUM(F7-E8) -> 2789.17
A9: 40066 | B9: Richard Dewick (Trans) | C9: Spoil removal | E9: 88.7 | F9: =SUM(F8-E9) -> 2700.47
A10: 40071 | B10: I T Whittaker | C10: Clear BMX site | E10: 320 | F10: =SUM(F9-E10) -> 2380.47
A11: 40115 | B11: J Moore Scaffolding Ltd | C11: Scaffold Poles for KGV fencing | E11: 140 | F11: =SUM(F10-E11) -> 2240.47
A12: 40130 | B12: Mark Passey | C12: Work Invoice - Digger driver | E12: 50 | F12: =SUM(F11-E12) -> 2190.47
A13: 40133 | B13: B F Ground Maintenance | C13: Holes for fencing for BMX | E13: 60 | F13: =SUM(F12-E13) -> 2130.47
A14: 40134 | B14: H S Jackson & Son (Fencing) Ltd | C14: Fencing for BMX | E14: 375.16 | F14: =SUM(F13-E14) -> 1755.31
A15: 40134 | B15: Pro-mix Ltd | C15: Concrete for Fencing Posts | E15: 116.66 | F15: =SUM(F14-E15) -> 1638.65
A16: 40135 | B16: Victor Oxley | C16: Work Invoice | E16: 98 | F16: =SUM(F15-E16) -> 1540.65
A17: 40136 | B17: Dengie Plant Hire | C17: Hire of Digger for BMX fence | E17: 50 | F17: =SUM(F16-E17) -> 1490.65
A18: 40196 | B18: Eastern Petroleum Supplies Ltd | C18: Supply/drill/fabricate/fencing | E18: 558.5 | F18: =SUM(F17-E18) -> 932.15
E20: End of year sub total | F20: =SUM(F18) -> 932.15
A22: 1st Apr 10 | B22: Precept Budget | D22: 3500 | F22: =SUM(D22+F20) -> 4432.15
A23: 40276 | B23: Dale Hire | C23: Heras Fencing Hire | E23: 200 | F23: =SUM(F22+D23-E23) -> 4232.15
A24: 40312 | B24: James Cooper | C24: Work Invoice | E24: 180 | F24: =SUM(F23+D24-E24) -> 4052.15
A25: 40319 | B25: Cummins & Jennings | C25: Goods for BMX | E25: 46.6 | F25: =SUM(F24+D25-E25) -> 4005.55
A26: 40323 | B26: James Cooper | C26: Work Invoice | E26: 120 | F26: =SUM(F25+D26-E26) -> 3885.55
A27: 40326 | B27: James Cooper | C27: Work Invoice | E27: 180 | F27: =SUM(F26+D27-E27) -> 3705.55
A28: 40330 | B28: Travis Perkings Trading Co Ltd | C28: Marking paint for BMX | E28: 9.32 | F28: =SUM(F27+D28-E28) -> 3696.23
A29: 40330 | B29: Dale Hire | C29: Heras Fencing Hire | E29: 200 | F29: =SUM(F28+D29-E29) -> 3496.23
A30: 40330 | B30: Dale Hire | C30: Heras Fencing Hire | E30: 113.73 | F30: =SUM(F29+D30-E30) -> 3382.5
A31: 40332 | B31: H S Jackson & Son (Fencing) Ltd | C31: Fence Wire for BMX | E31: 51.46 | F31: =SUM(F30+D31-E31) -> 3331.04
A32: 40332 | B32: Danbury Fencing | C32: Winders and bolts for BMX | E32: 50.08 | F32: =SUM(F31+D32-E32) -> 3280.96
A33: 40333 | B33: Pro-mix Ltd | C33: Concrete for BMX fence | E33: 198 | F33: =SUM(F32+D33-E33) -> 3082.96
A34: 40333 | B34: Cash | C34: Digger Driver for BMX 6 days | E34: 450 | F34: =SUM(F33+D34-E34) -> 2632.96
A35: 40333 | B35: James Cooper | C35: Work Invoice | E35: 300 | F35: =SUM(F34+D35-E35) -> 2332.96
A36: 40338 | B36: Dale Hire | C36: Refund on Heras Fencing | D36: 83.67 | F36: =SUM(F35+D36-E36) -> 2416.63
A37: 40340 | B37: James Cooper | C37: Work Invoice | E37: 60 | F37: =SUM(F36+D37-E37) -> 2356.63
A38: 40343 | B38: H S Jackson & Son (Fencing) Ltd | C38: Fence for BMX | E38: 274.6 | F38: =SUM(F37+D38-E38) -> 2082.03
A39: 40343 | B39: I T Whittaker | C39: Hire of Digger and Driver | E39: 1000 | F39: =SUM(F38+D39-E39) -> 1082.03
A40: 40343 | B40: Richard Dewick (Trans) | C40: Supply of Soil for BMX | E40: 1270 | F40: =SUM(F39+D40-E40) -> -187.97
A41: 40345 | B41: Dengie Plant Hire | C41: Digger & Auger for BMX | E41: 480 | F41: =SUM(F40+D41-E41) -> -667.97
A42: 40356 | B42: Cummins & Jennings | C42: Grinding Discs | E42: 24.8 | F42: =SUM(F41+D42-E42) -> -692.77
A43: 40364 | B43: James Cooper | C43: Work Invoice | E43: 180 | F43: =SUM(F42+D43-E43) -> -872.77
...

Sheet Improved Public Safety
A1: PROJECT: Public Health & Safety
A2: Last review: 1st April 2011
A3: Date | B3: Name | C3: Description / Item | D3: Receipts | E3: Payments | F3: Balance
A5: 1st Apr 10 | B5: Precept Budget | D5: 4000 | F5: =SUM(D5) -> 4000
A6: 40308 | B6: Balfor Beatty | C6: Lamp Fittings from Co op | E6: 20 | F6: =SUM(F5+D6-E6) -> 3980
A7: 40367 | B7: Tech Electrical PLC | C7: Wiring etc for KGV Connector | E7: 341.92 | F7: =SUM(F6+D7-E7) -> 3638.08
A8: 40367 | B8: Tech Electrical PLC | C8: Wiring etc for KGV Connector | E8: 340.43 | F8: =SUM(F7+D8-E8) -> 3297.65
A9: 40367 | B9: Jewson | C9: Drain Cover for KGV Connector | E9: 24.99 | F9: =SUM(F8+D9-E9) -> 3272.66
A10: 40368 | B10: Dale Hire | C10: Hire of Trencher KGV Connector | E10: 100 | F10: =SUM(F9+D10-E10) -> 3172.66
A11: 40371 | B11: Rushtons Hardware & DIY | C11: Cement and ballast KGV Connector | E11: 37.45 | F11: =SUM(F10+D11-E11) -> 3135.21
A12: 40371 | B12: James Cooper | C12: Work Invoice KGV Connector | E12: 100 | F12: =SUM(F11+D12-E12) -> 3035.21
A13: 40371 | B13: TLC (Southern) Ltd | C13: Electrical goods KGV Connector | E13: 59 | F13: =SUM(F12+D13-E13) -> 2976.21
A14: 40375 | B14: James Cooper | C14: Work Invoice KGV Connector | E14: 120 | F14: =SUM(F13+D14-E14) -> 2856.21
A15: 40378 | B15: Dengie Plant Hire | C15: Two days Trailer Hire KGV Connector | E15: 30 | F15: =SUM(F14+D15-E15) -> 2826.21
A16: 40378 | B16: C Saward | C16: Repair to water pipe KGV Connector | E16: 10 | F16: =SUM(F15+D16-E16) -> 2816.21
A17: 40395 | B17: J Pitcher | C17: Supply Electrical ID Tape KGV Connector | E17: 7 | F17: =SUM(F16+D17-E17) -> 2809.21
A18: 40470 | B18: Chelmer Salvage | C18: Lamp Poats for carpark lighting | E18: 120 | F18: =SUM(F17+D18-E18) -> 2689.21
E20: Cost status of Electrical Connector on KGV | F20: =SUM(E7:E17) -> 1170.79
E22: Cost status of extra lighting to KGV Car Park | F22: =SUM(E6+E18) -> 140
E24: End of year sub total | F24: 2689.21
A26: 1st Apr 11 | B26: Precept Budget | D26: 910.79 | F26: =SUM(F18+D26-E26) -> 3600
A27: 40980 | B27: Essex Total Clearance | C27: Girders for gate posts on KGV | E27: 50 | F27: =SUM(F26+D27-E27) -> 3550

Sheet KGV Safety Barriers
A1: PROJECT: KGV Safety Barriers
A2: Last review: 1st April 2011
A3: Date | B3: Name | C3: Description / Item | D3: Receipts | E3: Payments | F3: Balance
A5: 1st Apr 09 | B5: Precept Budget | D5: 1000 | F5: =SUM(D5) -> 1000
E7: End of year sub total | F7: =SUM(F5) -> 1000
A9: 1st Apr 10 | B9: Precept Budget | D9: 0 | F9: =SUM(F7+D9) -> 1000
A10: 40305 | B10: Balfor Beatty | C10: Bollards etc from Co op | E10: 100 | F10: =SUM(F9+D10-E10) -> 900
A11: 40448 | B11: SM Primary School | C11: Surplus Fencing and Gates | E11: 137.5 | F11: =SUM(F10+D11-E11) -> 762.5
E13: End of year sub total | F13: 762.5
A15: 1st Apr 11 | B15: Precept Budget | D15: 0 | F15: =SUM(F13+D15) -> 762.5
E18: End of year sub total

Sheet MDC Park Rangers
A1: PROJECT: MDC Park Rangers
A2: Last review: 1st April 2011
A3: Date | B3: Name | C3: Description / Item | D3: Receipts | E3: Payments | F3: Balance
A5: 1st Apr 09 | B5: Precept Budget | D5: 1300 | F5: =SUM(D5) -> 1300
E7: End of year sub total | F7: =SUM(F5) -> 1300
A9: 1st Apr 10 | B9: Precept Budget | D9: 0 | F9: =SUM(F7+D9) -> 1300
E11: End of year sub total | F11: 1300
A13: 1st Apr 11 | B13: Precept Budget | D13: 0 | F13: =SUM(F11+D13) -> 1300

Sheet Street Lighting Imp'ments
A1: PROJECT: Street Lighting Improvements
A2: Last review: 1st April 2011
A3: Date | B3: Name | C3: Description / Item | D3: Receipts | E3: Payments | F3: Balance
A5: 1st Apr 09 | B5: Precept Budget | D5: 700 | F5: =SUM(D5) -> 700
E7: End of year sub total | F7: =SUM(F5) -> 700
A9: 1st Apr 10 | B9: Precept Budget | D9: 0 | F9: =SUM(F7+D9) -> 700
E11: End of year sub total | F11: 700
A13: 1st Apr 11 | B13: Precept Budget | D13: 0 | F13: =SUM(F11+D13) -> 700

Sheet Notice Board
A1: PROJECT: Notice Board/Village Map
A2: Last review: 1st April 2011
A3: Date | B3: Name | C3: Description / Item | D3: Receipts | E3: Payments | F3: Balance
A5: 1st Apr 08 | B5: Precept Budget | D5: 900 | F5: =SUM(D5) -> 900
E7: End of year sub total | F7: =SUM(F5) -> 900
A9: 1st Apr 09 | B9: Precept Budget | D9: 0 | F9: =SUM(D9+F7) -> 900
E11: End of year sub total | F11: =SUM(F9) -> 900
A13: 1st Apr 10 | B13: Precept Budget | D13: 0 | F13: =SUM(D13+F11) -> 900
A14: 40371 | B14: Maldon District Council | C14: Planning application fee | E14: 47.5 | F14: =SUM(F13+D14-E14) -> 852.5
A15: 40371 | B15: Streetwise Maps | C15: Maps for notice board P App | E15: 11 | F15: =SUM(F14+D15-E15) -> 841.5
A16: 40394 | B16: Maldon District Council | C16: Planning application fee | E16: 37.5 | F16: =SUM(F15+D16-E16) -> 804
A17: 40408 | B17: Maldon District Council | C17: Planning application fee | E17: 85 | F17: =SUM(F16+D17-E17) -> 719
A18: 40525 | B18: Greenbarnes Ltd | C18: Notice Board | E18: 3251.49 | F18: =SUM(F17+D18-E18) -> -2532.49
A19: 40536 | B19: ECC | C19: CIF Grant | D19: 3251.49 | F19: =SUM(F18+D19-E19) -> 719
E21: End of year sub total | F21: 719
A23: 1st Apr 11 | B23: Precept Budget | D23: 200 | F23: =SUM(F19+D23-E23) -> 919
