Workbook

Sheet Overall Budget
A1: Southminster Parish Council Budget 1st April 2014 to 31 March 2015 Status at 31st March 2015
A3: Budget Item | B3: Budget Sub-item | C3: Balance 31/03/2013 | D3: Precept | E3: Sub-Item Budget | F3: Item Budget | G3: Payments | H3: Receipts | I3: Sub-item Balance | J3: Item Balance
A5: Administration | F5: =SUM(E6:E19) -> 10705.33 | G5: =SUM(G6:G19) -> 5423.76 | H5: =SUM(H6:H19) -> 208.53 | J5: =SUM(F5-G5+H5) -> 5490.1
B6: Audit | C6: 318.87 | D6: 281.13 | E6: =SUM(C6+D6) -> 600 | G6: 473.75 | H6: 0 | I6: =SUM(E6-G6+H6) -> 126.25
B7: Chairman's Honorarium | C7: 0 | D7: 600 | E7: =SUM(C7+D7) -> 600 | G7: 0 | H7: 0 | I7: =SUM(E7-G7+H7) -> 600
B8: Charity | C8: 107.5 | D8: 0 | E8: =SUM(C8+D8) -> 107.5 | G8: 0 | H8: 107.5 | I8: =SUM(E8-G8+H8) -> 215
B9: Election Costs | C9: 2000 | D9: 0 | E9: =SUM(C9+D9) -> 2000 | G9: 0 | H9: 0 | I9: =SUM(E9-G9+H9) -> 2000
B10: General Expenses | C10: 12.66 | D10: 510.92 | E10: =SUM(C10+D10) -> 523.58 | G10: 414.23 | H10: 75.25 | I10: =SUM(E10-G10+H10) -> 184.6
B11: Green Sacks | C11: 44.25 | D11: 0 | E11: =SUM(C11+D11) -> 44.25 | G11: 44.25 | H11: 0 | I11: =SUM(E11-G11+H11) -> 0
B12: Insurance - General | C12: 339.26 | D12: 2160.74 | E12: =SUM(C12+D12) -> 2500 | G12: 2407.83 | H12: 0 | I12: =SUM(E12-G12+H12) -> 92.17
B13: IT Services | C13: 100.65 | D13: 199.35 | E13: =SUM(C13+D13) -> 300 | G13: 180.61 | H13: 0 | I13: =SUM(E13-G13+H13) -> 119.39
B14: Neighbourhood Planning | C14: 2200 | D14: -200 | E14: =SUM(C14+D14) -> 2000 | G14: 0 | H14: 0 | I14: =SUM(E14-G14+H14) -> 2000
B15: Postage | C15: 34.51 | D15: 45.49 | E15: =SUM(C15+D15) -> 80 | G15: 42.07 | H15: 0 | I15: =SUM(E15-G15+H15) -> 37.93
B16: Stationary | C16: 111.98 | D16: 288.02 | E16: =SUM(C16+D16) -> 400 | G16: 277.82 | H16: 3.78 | I16: =SUM(E16-G16+H16) -> 125.96
B17: Subscriptions | C17: 208.47 | D17: 641.53 | E17: =SUM(C17+D17) -> 850 | G17: 769.63 | H17: 0 | I17: =SUM(E17-G17+H17) -> 80.37
... B19: Training | C19: 445.01 | D19: -195.01 | E19: =SUM(C19+D19) -> 250 | G19: 395 | H19: 22 | I19: =SUM(E19-G19+H19) -> -123
A21: Wages PAYE & Expenses | F21: =SUM(E22:E23) -> 15200 | G21: =SUM(G22:G23) -> 13414.39 | H21: =SUM(H22:H23) -> 0 | J21: =SUM(F21-G21+H21) -> 1785.61
B22: Clerk - Salary | C22: 1640.79 | D22: 9359.21 | E22: =SUM(C22+D22) -> 11000 | G22: 9641.17 | H22: 0 | I22: =SUM(E22-G22+H22) -> 1358.83
B23: Clerk - Tax and National Insurance | C23: 362.59 | D23: 3837.41 | E23: =SUM(C23+D23) -> 4200 | G23: 3773.22 | H23: 0 | I23: =SUM(E23-G23+H23) -> 426.78
A25: S137 Payments | C25: 250 | D25: -50 | F25: =SUM(C25+D25) -> 200 | G25: 100 | H25: 0 | J25: =SUM(F25-G25+H25) -> 100
A27: Capital Spending (Asset purchase) | C27: 0 | D27: 0 | F27: =SUM(C27+D27) -> 0 | G27: 0 | H27: 0 | J27: =SUM(F27-G27+H27) -> 0
A29: Sale of Assets | C29: 0 | D29: 0 | F29: =SUM(C29+D29) -> 0 | G29: 0 | H29: 0 | J29: =SUM(F29-G29+H29) -> 0
A31: Loans etc for Capital expend | C31: 0 | D31: 0 | F31: =SUM(C31+D31) -> 0 | G31: 0 | H31: 0 | J31: =SUM(F31-G31+H31) -> 0
A33: Loan, Interest & Repayments | C33: 0 | D33: 0 | F33: =SUM(C33+D33) -> 0 | G33: 0 | H33: 0 | J33: =SUM(F33-G33+H33) -> 0
A35: Interest on Invts and A/Cs | C35: 63.86 | D35: 0 | F35: =SUM(C35+D35) -> 63.86 | G35: =SUM(G36:G37) -> 124.74 | H35: =SUM(H36:H37) -> 60.88 | J35: =SUM(F35-G35+H35) -> 7.1054274e-15
B36: Business Reserve | G36: 70.13 | H36: 35.21
B37: Business Premium | G37: 54.61 | H37: 25.67
A39: Tenancies (Council as landlord) | C39: 4976.41 | D39: 0 | F39: =SUM(C39+D39) -> 4976.41 | G39: 9667.39 | H39: 4690.98 | J39: =SUM(F39-G39+H39) -> 0
A41: Capital Grants | C41: 0 | D41: 0 | F41: =SUM(C41+D41) -> 0 | G41: 0 | H41: 0 | J41: =SUM(F41-G41+H41) -> 0
A43: Agency Services | C43: 0 | D43: 0 | F43: =SUM(C43+D43) -> 0 | G43: 0 | H43: 0 | J43: =SUM(F43-G43+H43) -> 0
A45: Other Payments (Not listed here) | C45: -30 | D45: 30 | F45: =SUM(C45+D45) -> 0 | G45: 0 | H45: 0 | J45: =SUM(F45-G45+H45) -> 0
A47: Provision for doubtful debts | C47: 0 | D47: 0 | F47: =SUM(C47+D47) -> 0 | G47: 0 | H47: 0 | J47: =SUM(F47-G47+H47) -> 0
A49: Advertising & Publicity | F49: =SUM(E50:E51) -> 1700 | G49: =SUM(G50:G51) -> 1280 | H49: =SUM(H50:H51) -> 0 | J49: =SUM(F49-G49+H49) -> 420
B50: SPN | C50: 130 | D50: 1470 | E50: =SUM(C50+D50) -> 1600 | G50: 1280 | H50: 0 | I50: =SUM(E50-G50+H50) -> 320
B51: Other | C51: 100 | D51: 0 | E51: =SUM(C51+D51) -> 100 | G51: 0 | H51: 0 | I51: =SUM(E51-G51+H51) -> 100
A53: Allotments | F53: =SUM(E54:E58) -> 405.87 | G53: =SUM(G54:G58) -> 873.37 | H53: =SUM(H54:H58) -> 1789.8 | J53: =SUM(F53-G53+H53) -> 1322.3
B54: Fuel PH | C54: -59.81 | E54: 0 | G54: 70.9 | H54: 70.9 | I54: =SUM(E54-G54+H54) -> 0
B55: Lettings | C55: 1538.1 | E55: 698.01 | G55: 44.8 | H55: 786.23 | I55: =SUM(E55-G55+H55) -> 1439.44
B56: Maintenance (incl grass cutting) | C56: -681.88 | E56: 0 | G56: 403.67 | H56: 403.67 | I56: =SUM(E56-G56+H56) -> 0
B57: Sheds | C57: -292.14 | E57: =SUM(C57+D57) -> -292.14 | G57: 0 | H57: 175 | I57: =SUM(E57-G57+H57) -> -117.14
...

Sheet R & P
A1: Receipts and Payments since last report
C2: Payments at 28/02/2015 | D2: Current Payments | E2: Payments for period | G2: Receipts at 28/02/2015 | H2: Current receipts | I2: Receipts for period
A4: Administration | C4: =SUM(C5:C18) -> 5295.06 | D4: =SUM('Overall Budget'!G5) -> 5423.76 | E4: =SUM(D4-C4) -> 128.7 | G4: =SUM(G5:G18) -> 164.28 | H4: =SUM('Overall Budget'!H5) -> 208.53 | I4: =SUM(H4-G4) -> 44.25
B5: Audit | C5: 473.75 | D5: =SUM('Overall Budget'!G6) -> 473.75 | E5: =SUM(D5-C5) -> 0 | G5: 0 | H5: =SUM('Overall Budget'!H6) -> 0 | I5: =SUM(H5-G5) -> 0
B6: Chairman's Honorarium | C6: 0 | D6: =SUM('Overall Budget'!G7) -> 0 | E6: =SUM(D6-C6) -> 0 | G6: 0 | H6: =SUM('Overall Budget'!H7) -> 0 | I6: =SUM(H6-G6) -> 0
B7: Charity | C7: 0 | D7: =SUM('Overall Budget'!G8) -> 0 | E7: =SUM(D7-C7) -> 0 | G7: 107.5 | H7: =SUM('Overall Budget'!H8) -> 107.5 | I7: =SUM(H7-G7) -> 0
B8: Election Costs | C8: 0 | D8: =SUM('Overall Budget'!G9) -> 0 | E8: =SUM(D8-C8) -> 0 | G8: 0 | H8: =SUM('Overall Budget'!H9) -> 0 | I8: =SUM(H8-G8) -> 0
B9: General Expenses | C9: 370.84 | D9: =SUM('Overall Budget'!G10) -> 414.23 | E9: =SUM(D9-C9) -> 43.39 | G9: 31 | H9: =SUM('Overall Budget'!H10) -> 75.25 | I9: =SUM(H9-G9) -> 44.25
B10: Green Sacks | C10: 0 | D10: =SUM('Overall Budget'!G11) -> 44.25 | E10: =SUM(D10-C10) -> 44.25 | G10: 0 | H10: =SUM('Overall Budget'!H11) -> 0 | I10: =SUM(H10-G10) -> 0
B11: Insurance - General | C11: 2407.83 | D11: =SUM('Overall Budget'!G12) -> 2407.83 | E11: =SUM(D11-C11) -> 0 | G11: 0 | H11: =SUM('Overall Budget'!H12) -> 0 | I11: =SUM(H11-G11) -> 0
B12: Neighbourhood Planning | C12: 180.61 | D12: =SUM('Overall Budget'!G13) -> 180.61 | E12: =SUM(D12-C12) -> 0 | G12: 0 | H12: =SUM('Overall Budget'!H13) -> 0 | I12: =SUM(H12-G12) -> 0
B13: IT Services | C13: 0 | D13: =SUM('Overall Budget'!G13) -> 180.61 | E13: =SUM(D13-C13) -> 180.61 | G13: 0 | H13: =SUM('Overall Budget'!H13) -> 0 | I13: =SUM(H13-G13) -> 0
B14: Postage | C14: 34.74 | D14: =SUM('Overall Budget'!G15) -> 42.07 | E14: =SUM(D14-C14) -> 7.33 | G14: 0 | H14: =SUM('Overall Budget'!H15) -> 0 | I14: =SUM(H14-G14) -> 0
B15: Stationary | C15: 277.82 | D15: =SUM('Overall Budget'!G16) -> 277.82 | E15: =SUM(D15-C15) -> 0 | G15: 3.78 | H15: =SUM('Overall Budget'!H16) -> 3.78 | I15: =SUM(H15-G15) -> 0
B16: Subscriptions | C16: 769.63 | D16: =SUM('Overall Budget'!G17) -> 769.63 | E16: =SUM(D16-C16) -> 0 | G16: 0 | H16: =SUM('Overall Budget'!H17) -> 0 | I16: =SUM(H16-G16) -> 0
B17: Telephone | C17: 384.84 | D17: =SUM('Overall Budget'!G18) -> 418.57 | E17: =SUM(D17-C17) -> 33.73 | G17: 0 | H17: =SUM('Overall Budget'!H18) -> 0 | I17: =SUM(H17-G17) -> 0
B18: Training | C18: 395 | D18: =SUM('Overall Budget'!G19) -> 395 | E18: =SUM(D18-C18) -> 0 | G18: 22 | H18: =SUM('Overall Budget'!H19) -> 22 | I18: =SUM(H18-G18) -> 0
A20: Wages PAYE & Expenses | C20: =SUM(C21:C22) -> 12557.39 | D20: =SUM('Overall Budget'!G21) -> 13414.39 | E20: =SUM(D20-C20) -> 857 | G20: =SUM(G21:G22) -> 0 | H20: =SUM('Overall Budget'!H21) -> 0 | I20: =SUM(H20-G20) -> 0
B21: Clerk - Salary | C21: 8784.17 | D21: =SUM('Overall Budget'!G22) -> 9641.17 | E21: =SUM(D21-C21) -> 857 | G21: 0 | H21: =SUM('Overall Budget'!H22) -> 0 | I21: =SUM(H21-G21) -> 0
B22: Clerk - Tax and National Insurance | C22: 3773.22 | D22: =SUM('Overall Budget'!G23) -> 3773.22 | E22: =SUM(D22-C22) -> 0 | G22: 0 | H22: =SUM('Overall Budget'!H23) -> 0 | I22: =SUM(H22-G22) -> 0
A24: S137 Payments | C24: 100 | D24: =SUM('Overall Budget'!G25) -> 100 | E24: =SUM(D24-C24) -> 0 | G24: 0 | H24: =SUM('Overall Budget'!H25) -> 0 | I24: =SUM(H24-G24) -> 0
A26: Capital Spending (Asset purchase) | C26: 0 | D26: =SUM('Overall Budget'!G27) -> 0 | E26: =SUM(D26-C26) -> 0 | G26: 0 | H26: =SUM('Overall Budget'!H27) -> 0 | I26: =SUM(H26-G26) -> 0
A28: Sale of Assets | C28: 0 | D28: =SUM('Overall Budget'!G29) -> 0 | E28: =SUM(D28-C28) -> 0 | G28: 0 | H28: =SUM('Overall Budget'!H29) -> 0 | I28: =SUM(H28-G28) -> 0
A30: Loans etc for Capital expend | C30: 0 | D30: =SUM('Overall Budget'!G31) -> 0 | E30: =SUM(D30-C30) -> 0 | G30: 0 | H30: =SUM('Overall Budget'!H31) -> 0 | I30: =SUM(H30-G30) -> 0
A32: Loan, Interest & Repayments | C32: 0 | D32: =SUM('Overall Budget'!G33) -> 0 | E32: =SUM(D32-C32) -> 0 | G32: 0 | H32: =SUM('Overall Budget'!H33) -> 0 | I32: =SUM(H32-G32) -> 0
A34: Interest on Invts and A/Cs | C34: =SUM(C35:C36) -> 63.86 | D34: =SUM('Overall Budget'!G35) -> 124.74 | E34: =SUM(D34-C34) -> 60.88 | G34: =SUM(G35:G36) -> 46.98 | H34: =SUM('Overall Budget'!H35) -> 60.88 | I34: =SUM(H34-G34) -> 13.9
B35: Business Reserve | C35: 34.92 | D35: =SUM('Overall Budget'!G36) -> 70.13 | E35: =SUM(D35-C35) -> 35.21 | G35: 27.08 | H35: =SUM('Overall Budget'!H36) -> 35.21 | I35: =SUM(H35-G35) -> 8.13
B36: Business Premium | C36: 28.94 | D36: =SUM('Overall Budget'!G37) -> 54.61 | E36: =SUM(D36-C36) -> 25.67 | G36: 19.9 | H36: =SUM('Overall Budget'!H37) -> 25.67 | I36: =SUM(H36-G36) -> 5.77
A38: Tenancies (Council as landlord) | C38: 4976.41 | D38: =SUM('Overall Budget'!G39) -> 9667.39 | E38: =SUM(D38-C38) -> 4690.98 | G38: 4587.32 | H38: =SUM('Overall Budget'!H39) -> 4690.98 | I38: =SUM(H38-G38) -> 103.66
A40: Capital Grants | C40: 0 | D40: =SUM('Overall Budget'!G41) -> 0 | E40: =SUM(D40-C40) -> 0 | G40: 0 | H40: =SUM('Overall Budget'!H41) -> 0 | I40: =SUM(H40-G40) -> 0
A42: Agency Services | C42: 0 | D42: =SUM('Overall Budget'!G43) -> 0 | E42: =SUM(D42-C42) -> 0 | G42: 0 | H42: =SUM('Overall Budget'!H43) -> 0 | I42: =SUM(H42-G42) -> 0
A44: Other Payments (Not listed here) | C44: 0 | D44: =SUM('Overall Budget'!G45) -> 0 | E44: =SUM(D44-C44) -> 0 | G44: 0 | H44: =SUM('Overall Budget'!H45) -> 0 | I44: =SUM(H44-G44) -> 0
A46: Provision for doubtful debts | C46: 0 | D46: =SUM('Overall Budget'!G47) -> 0 | E46: =SUM(D46-C46) -> 0 | G46: 0 | H46: =SUM('Overall Budget'!H47) -> 0 | I46: =SUM(H46-G46) -> 0
A48: Advertising & Publicity | C48: =SUM(C49:C50) -> 1150 | D48: =SUM('Overall Budget'!G49) -> 1280 | E48: =SUM(D48-C48) -> 130 | G48: =SUM(G49:G50) -> 0 | H48: =SUM('Overall Budget'!H49) -> 0 | I48: =SUM(H48-G48) -> 0
B49: SPN | C49: 1150 | D49: =SUM('Overall Budget'!G50) -> 1280 | E49: =SUM(D49-C49) -> 130 | G49: 0 | H49: =SUM('Overall Budget'!H50) -> 0 | I49: =SUM(H49-G49) -> 0
B50: Other | C50: 0 | D50: =SUM('Overall Budget'!G51) -> 0 | E50: =SUM(D50-C50) -> 0 | G50: 0 | H50: =SUM('Overall Budget'!H51) -> 0 | I50: =SUM(H50-G50) -> 0
A52: Allotments | C52: =SUM(C53:C57) -> 849.38 | D52: =SUM('Overall Budget'!G53) -> 873.37 | E52: =SUM(D52-C52) -> 23.99 | G52: =SUM(G53:G57) -> 1789.8 | H52: =SUM('Overall Budget'!H53) -> 1789.8 | I52: =SUM(H52-G52) -> 0
B53: Fuel PH | C53: 70.9 | D53: =SUM('Overall Budget'!G54) -> 70.9 | E53: =SUM(D53-C53) -> 0 | G53: 0 | H53: =SUM('Overall Budget'!H54) -> 70.9 | I53: =SUM(H53-G53) -> 70.9
B54: Lettings | C54: 44.8 | D54: =SUM('Overall Budget'!G55) -> 44.8 | E54: =SUM(D54-C54) -> 0 | G54: 1614.8 | H54: =SUM('Overall Budget'!H55) -> 786.23 | I54: =SUM(H54-G54) -> -828.57
B55: Maintenance (incl grass cutting) | C55: 403.67 | D55: =SUM('Overall Budget'!G56) -> 403.67 | E55: =SUM(D55-C55) -> 0 | G55: 0 | H55: =SUM('Overall Budget'!H56) -> 403.67 | I55: =SUM(H55-G55) -> 403.67
...

Sheet Comm Hall 2 Refurb
A1: Cadet Building refurbishment
A3: PHASE 1 | B3: (Kitchen & Toilets) | F3: Original Investment | G3: 2500
E5: Incl VAT | F5: VAT | G5: Net
A6: 41449 | B6: CC | C6: Reeve & Son (Maldon) Ltd | D6: Lock & Keys for ex-cadet bdg | E6: 56 | F6: 9.33 | G6: 46.67
A7: 41450 | B7: CC | C7: Wickes | D7: Paint for ex-cadet building | E7: 142.07 | F7: 23.7 | G7: 118.37
A8: 41453 | B8: BACS | C8: Smallwaste | D8: Skip for Cadet Building | E8: 120 | F8: 20 | G8: 100
A9: 41453 | B9: CC | C9: Wickes | D9: Kitchen units-ex-cadet building | E9: 696.59 | F9: 116.1 | G9: 580.49
A10: 41456 | B10: CC | C10: Panel Supplies Ltd | D10: Door blanks for Ex-cadet building | E10: 124.8 | F10: 20.8 | G10: 104
A11: 41460 | B11: 104454 | C11: Travis Perkins Trading Co Ltd | D11: Materials for Cadet Bldg | E11: 328.56 | F11: 54.76 | G11: 273.8
A12: 41460 | B12: 104454 | C12: Travis Perkins Trading Co Ltd | D12: Materials for Cadet Bldg | E12: 101.42 | F12: 16.9 | G12: 84.52
A13: 41460 | B13: 104454 | C13: Travis Perkins Trading Co Ltd | D13: Materials for Cadet Bldg | E13: 38.4 | F13: 6.4 | G13: 32
A14: 41460 | B14: 104454 | C14: Travis Perkins Trading Co Ltd | D14: Materials for Cadet Bldg | E14: 69.58 | F14: 11.6 | G14: 57.98
A15: 41461 | B15: CC | C15: Wickes | D15: Paint and tape | E15: 25.01 | F15: 4.17 | G15: 20.84
A16: 41463 | B16: CC | C16: Cummins & Jennings Ltd | D16: Plumbing | E16: 9 | F16: 1.5 | G16: 7.5
A17: 41470 | B17: 104458 | C17: Travis Perkins Trading Co Ltd | D17: Materials for Cadet Bldg | E17: 153.6 | F17: 25.6 | G17: 128
A18: 41470 | B18: 104458 | C18: Travis Perkins Trading Co Ltd | D18: Materials for Cadet Bldg | E18: 192 | F18: 32 | G18: 160
A19: 41470 | B19: 104458 | C19: Travis Perkins Trading Co Ltd | D19: Materials for Cadet Bldg | E19: 7.42 | F19: 1.24 | G19: 6.18
A20: 41470 | B20: 104458 | C20: Travis Perkins Trading Co Ltd | D20: Materials for Cadet Bldg | E20: 131.94 | F20: 21.99 | G20: 109.95
A21: 41471 | B21: CC | C21: Magnet Ltd | D21: Doors etc | E21: 81.39 | F21: 13.57 | G21: 67.82
A22: 41477 | B22: 104460 | C22: Travis Perkins Trading Co Ltd | D22: Materials for Cadet Bldg | E22: 502.95 | F22: 83.83 | G22: 419.12
A23: 41477 | B23: 104460 | C23: Travis Perkins Trading Co Ltd | D23: Materials for Cadet Bldg | E23: 39.88 | F23: 6.65 | G23: 33.23
A24: 41477 | B24: 104460 | C24: Travis Perkins Trading Co Ltd | D24: Materials for Cadet Bldg | E24: 12.77 | F24: 2.13 | G24: 10.64
A25: 41477 | B25: 104460 | C25: Travis Perkins Trading Co Ltd | D25: Materials for Cadet Bldg | E25: 65.27 | F25: 10.88 | G25: 54.39
A26: 41481 | B26: BACS | C26: S Jewry | D26: Erect cubicles | E26: 240 | G26: 240
A27: 41481 | B27: 104461 | C27: Dengie Plumbing Services | D27: Plumbing work on Cadet Bdg | E27: 3446 | G27: 3446
A28: 41484 | B28: 104462 | C28: Travis Perkins Trading Co Ltd | D28: Materials for Cadet Bldg | E28: 314.81 | F28: 52.47 | G28: 262.34
A29: 41484 | B29: 104462 | C29: Travis Perkins Trading Co Ltd | D29: Materials for Cadet Bldg | E29: 40.44 | F29: 6.74 | G29: 33.7
A30: 41484 | B30: 104462 | C30: Travis Perkins Trading Co Ltd | D30: Materials for Cadet Bldg | E30: 64.73 | F30: 10.79 | G30: 53.94
A31: 41488 | B31: BACS | C31: J Walpole (A Saward) | D31: Work Invoice 5 | E31: 389 | G31: 389
A32: 41491 | B32: CC | C32: Wickes | D32: Paint | E32: 53.97 | F32: 9 | G32: 44.97
A33: 41493 | B33: CC | C33: Staples | D33: Toilet furniture | E33: 98.29 | F33: 16.38 | G33: 81.91
A34: 41509 | B34: BACS | C34: AJB Electrical | D34: Electrical work | E34: 1523.16 | F34: 253.86 | G34: 1269.3
A35: 41502 | B35: OPC 276 | C35: Chelmsford Market | D35: Mountings for fans | E35: 5 | G35: 5
A36: 02/12.2013 | B36: BACS | C36: Andrew Watson & Sons Ltd | D36: Lay Flooring | E36: 540 | F36: 90 | G36: 450
F37: Budget expenditure | G37: =SUM(G6:G36) -> 8691.66
F39: Budget remaining | G39: =SUM(G3-G37) -> -6191.66
A42: PHASE 2 | F42: Original Investment | G42: 10000
E44: Incl VAT | F44: VAT | G44: Net
A45: PHASE 1 | C45: Budget Overrun | G45: =SUM(G37-G3) -> 6191.66
A46: 41532 | B46: CC | C46: Wickes | D46: Paint etc | E46: 100.31 | F46: 16.74 | G46: 83.57
...
